BEGIN:VCALENDAR
VERSION:2.0
PRODID:-//hacksw/handcal//NONSGML v1.0//EN
BEGIN:VEVENT
DTSTART:20260625T193000
DTEND:20260626T003000
LOCATION:A confirmer !
ORGANIZER;CN=Marion Pariset:MAILTO:m.n.pariset@gmail.com
SUMMARY:Soirée de clôture de la P33
DESCRIPTION:Prenez note ! La cérémonie de clôture de la P33 se déroulera le 25 juin prochain.Pour accueillir nos camarades dans l' "après-EDG" et finir cette journée en beauté, nous organisons une soirée en leur ...
URL:https://www.alumni-ecoledeguerre.fr/fr/event/soiree-de-cloture-de-la-p33/2026/06/25/54
BEGIN:VALARM
TRIGGER:-P0DT1H0M0S
ACTION:DISPLAY
END:VALARM
END:VEVENT
END:VCALENDAR